BEGIN:VCALENDAR
VERSION:2.0
PRODID:-//ChamberMaster//Event Calendar 2.0//EN
METHOD:PUBLISH
X-PUBLISHED-TTL:P3D
REFRESH-INTERVAL:P3D
CALSCALE:GREGORIAN
BEGIN:VEVENT
DTSTART:20200529T190000Z
DTEND:20200529T200000Z
X-MICROSOFT-CDO-ALLDAYEVENT:FALSE
SUMMARY:WEBINAR Member Benefits 101
DESCRIPTION:You must register to receive the Zoom link.\n\n\n\nNow more than ever is the time to learn what your Greater Langley Chamber membership can do for you and your business. \n\n\n\nFrom business solutions like conferencing services and online marketing\, to business education and employee benefits\, we have a Member Benefit Program to help your business survive and thrive in these unprecedented times. \n\n\n\nYou can review our full menu of Benefit Programs here: https://www.langleychamber.com/member-benefits\n\n\n\nJoin Kristi Maier\, Director of Member Relations\, as she walks through our best programs to take advantage of (and that will help you save money) as we all continue to navigate the global pandemic and social distancing.
X-ALT-DESC;FMTTYPE=text/html:<em><strong><span style="color: rgb(255\, 0\, 0)\;">You must register to receive the Zoom link.</span></strong></em><br>\n<br>\nNow more than ever is the time to learn what your Greater Langley Chamber membership can do for you and your business.&nbsp\;<br>\n<br>\nFrom business solutions like conferencing services and online marketing\, to business education and employee benefits\, we have a Member Benefit Program to help your business survive and thrive in these unprecedented times.&nbsp\;<br>\n<br>\nYou can review our full menu of Benefit Programs here:&nbsp\;<a href="https://www.langleychamber.com/member-benefits">https://www.langleychamber.com/member-benefits</a><br>\n<br>\nJoin Kristi Maier\, Director of Member Relations\, as she walks through our best programs to take advantage of (and that will help you save money) as we all continue to navigate the global pandemic and social distancing.&nbsp\;<br>\n<br>\n&nbsp\;
LOCATION:WEBINAR Zoom Webinar
UID:e.1292.6836
SEQUENCE:3
DTSTAMP:20260422T004019Z
URL:http://langleychamber.chambermaster.com/events/details/webinar-member-benefits-101-6836
END:VEVENT

END:VCALENDAR
